BEGIN:VCALENDAR
VERSION:2.0
PRODID:-//Teller Africa Tickets
CALSCALE:GREGORIAN
METHOD:PUBLISH
X-WR-CALNAME:Teller Africa Tickets
X-ORIGINAL-URL:https://tellerafricatickets.com/product/innovate-evolve-impact-empowering-event-professionals/
X-WR-CALDESC:Innovate Evolve Impact &#8211; Empowering Event Professionals
BEGIN:VEVENT
DTSTART;TZID=Europe/Paris:20251015T000000
DTEND;TZID=Europe/Paris:20251017T000000
SUMMARY:Innovate Evolve Impact – Empowering Event Professionals
DESCRIPTION:
URL:https://tellerafricatickets.com/product/innovate-evolve-impact-empowering-event-professionals/
LOCATION:OFF SANI ABACHA ROAD, GRA PORT HARCOURT
END:VEVENT
END:VCALENDAR
