BEGIN:VCALENDAR
VERSION:2.0
PRODID:-//Teller Africa Tickets
CALSCALE:GREGORIAN
METHOD:PUBLISH
X-WR-CALNAME:Teller Africa Tickets
X-ORIGINAL-URL:https://tellerafricatickets.com/product/highlife-legendary-awards-2025/
X-WR-CALDESC:HighLife Legendary Awards 2025
BEGIN:VEVENT
DTSTART;TZID=Europe/Paris:20250905T160000
DTEND;TZID=Europe/Paris:20250905T223000
SUMMARY:HighLife Legendary Awards 2025
DESCRIPTION:
URL:https://tellerafricatickets.com/product/highlife-legendary-awards-2025/
LOCATION:OFF SANI ABACHA ROAD, GRA PORT HARCOURT
END:VEVENT
END:VCALENDAR
