BEGIN:VCALENDAR
VERSION:2.0
PRODID:-//Teller Africa Tickets
CALSCALE:GREGORIAN
METHOD:PUBLISH
X-WR-CALNAME:Teller Africa Tickets
X-ORIGINAL-URL:https://tellerafricatickets.com/product/abacha-fiesta-live-the-flavour/
X-WR-CALDESC:Abacha Fiesta &#8211; Live the Flavour
BEGIN:VEVENT
DTSTART;TZID=Europe/Paris:20260607T130000
DTEND;TZID=Europe/Paris:20260607T220000
SUMMARY:Abacha Fiesta – Live the Flavour
DESCRIPTION:
URL:https://tellerafricatickets.com/product/abacha-fiesta-live-the-flavour/
LOCATION:POLO CLUB, TOMBIA GRA, PORT HARCOURT
END:VEVENT
END:VCALENDAR
